BEGIN:VCALENDAR
VERSION:2.0
PRODID:-//ORCA Swimming Club - ECPv6.15.20//NONSGML v1.0//EN
CALSCALE:GREGORIAN
METHOD:PUBLISH
X-WR-CALNAME:ORCA Swimming Club
X-ORIGINAL-URL:https://orcaswimming.club
X-WR-CALDESC:Events for ORCA Swimming Club
REFRESH-INTERVAL;VALUE=DURATION:PT1H
X-Robots-Tag:noindex
X-PUBLISHED-TTL:PT1H
BEGIN:VTIMEZONE
TZID:Europe/London
BEGIN:DAYLIGHT
TZOFFSETFROM:+0000
TZOFFSETTO:+0100
TZNAME:BST
DTSTART:20250330T010000
END:DAYLIGHT
BEGIN:STANDARD
TZOFFSETFROM:+0100
TZOFFSETTO:+0000
TZNAME:GMT
DTSTART:20251026T010000
END:STANDARD
BEGIN:DAYLIGHT
TZOFFSETFROM:+0000
TZOFFSETTO:+0100
TZNAME:BST
DTSTART:20260329T010000
END:DAYLIGHT
BEGIN:STANDARD
TZOFFSETFROM:+0100
TZOFFSETTO:+0000
TZNAME:GMT
DTSTART:20261025T010000
END:STANDARD
BEGIN:DAYLIGHT
TZOFFSETFROM:+0000
TZOFFSETTO:+0100
TZNAME:BST
DTSTART:20270328T010000
END:DAYLIGHT
BEGIN:STANDARD
TZOFFSETFROM:+0100
TZOFFSETTO:+0000
TZNAME:GMT
DTSTART:20271031T010000
END:STANDARD
END:VTIMEZONE
BEGIN:VEVENT
DTSTART;TZID=Europe/London:20260425T173000
DTEND;TZID=Europe/London:20260425T233000
DTSTAMP:20260420T015636
CREATED:20260305T094520Z
LAST-MODIFIED:20260305T100651Z
UID:5252-1777138200-1777159800@orcaswimming.club
SUMMARY:ORCA 10 Year Anniversary
DESCRIPTION:
URL:https://orcaswimming.club/event/orca-10-year-anniversary/
LOCATION:St Annes Rugby Club\, Higginshaw Road\, Oldham\, OL1 3JY\, United Kingdom
END:VEVENT
END:VCALENDAR